BEGIN:VCALENDAR
VERSION:2.0
PRODID:-//Burcot and Clifton Hampden Parish Council//Meeting Calendar//EN
CALSCALE:GREGORIAN
METHOD:PUBLISH
BEGIN:VEVENT
UID:70507-20250616@burcotandcliftonhampden-pc.gov.uk
DTSTAMP:20260420T081845Z
DTSTART;VALUE=DATE:20250616
DTEND;VALUE=DATE:20250617
SUMMARY:Parish Council Meeting &#8211\\; 16 June 2025
DESCRIPTION:Full Council Meeting\nView details: https://burcotandcliftonhampden-pc.gov.uk/meetings/parish-council-meeting-16-june-2025/
URL:https://burcotandcliftonhampden-pc.gov.uk/meetings/parish-council-meeting-16-june-2025/
END:VEVENT
END:VCALENDAR
