BEGIN:VCALENDAR
VERSION:2.0
PRODID:-//Burcot and Clifton Hampden Parish Council//Meeting Calendar//EN
CALSCALE:GREGORIAN
METHOD:PUBLISH
BEGIN:VEVENT
UID:70709-20250714@burcotandcliftonhampden-pc.gov.uk
DTSTAMP:20260422T103824Z
DTSTART;VALUE=DATE:20250714
DTEND;VALUE=DATE:20250715
SUMMARY:Clifton Hampden Parish Council Ordinary Meeting &#8211\\; 14th July 2025
DESCRIPTION:Full Council Meeting\nView details: https://burcotandcliftonhampden-pc.gov.uk/meetings/clifton-hampden-parish-council-ordinary-meeting-14th-july-2025/
URL:https://burcotandcliftonhampden-pc.gov.uk/meetings/clifton-hampden-parish-council-ordinary-meeting-14th-july-2025/
END:VEVENT
END:VCALENDAR
