BEGIN:VCALENDAR
VERSION:2.0
PRODID:-//Burcot and Clifton Hampden Parish Council//Meeting Calendar//EN
CALSCALE:GREGORIAN
METHOD:PUBLISH
BEGIN:VEVENT
UID:70749-20251023@burcotandcliftonhampden-pc.gov.uk
DTSTAMP:20260423T085128Z
DTSTART;VALUE=DATE:20251023
DTEND;VALUE=DATE:20251024
SUMMARY:Recreation Ground Committee Meeting &#8211\\; October
DESCRIPTION:Recreation Ground Committee Meeting Meeting\nView details: https://burcotandcliftonhampden-pc.gov.uk/meetings/recreation-ground-committee-meeting-october/
URL:https://burcotandcliftonhampden-pc.gov.uk/meetings/recreation-ground-committee-meeting-october/
END:VEVENT
END:VCALENDAR
