BEGIN:VCALENDAR
VERSION:2.0
PRODID:-//Burcot and Clifton Hampden Parish Council//Meeting Calendar//EN
CALSCALE:GREGORIAN
METHOD:PUBLISH
BEGIN:VEVENT
UID:70771-20251110@burcotandcliftonhampden-pc.gov.uk
DTSTAMP:20260423T095823Z
DTSTART;VALUE=DATE:20251110
DTEND;VALUE=DATE:20251111
SUMMARY:Recreation Ground Committee Meeting &#8211\\; November
DESCRIPTION:Recreation Ground Committee Meeting Meeting\nView details: https://burcotandcliftonhampden-pc.gov.uk/meetings/recreation-ground-committee-meeting-november/
URL:https://burcotandcliftonhampden-pc.gov.uk/meetings/recreation-ground-committee-meeting-november/
END:VEVENT
END:VCALENDAR
