BEGIN:VCALENDAR
VERSION:2.0
PRODID:-//Burcot and Clifton Hampden Parish Council//Meeting Calendar//EN
CALSCALE:GREGORIAN
METHOD:PUBLISH
BEGIN:VEVENT
UID:70800-20260112@burcotandcliftonhampden-pc.gov.uk
DTSTAMP:20260423T111648Z
DTSTART;VALUE=DATE:20260112
DTEND;VALUE=DATE:20260113
SUMMARY:Recreation Ground Committee Meeting &#8211\\; January 2026
DESCRIPTION:Recreation Ground Committee Meeting Meeting\nView details: https://burcotandcliftonhampden-pc.gov.uk/meetings/recreation-ground-committee-meeting-january-2026/
URL:https://burcotandcliftonhampden-pc.gov.uk/meetings/recreation-ground-committee-meeting-january-2026/
END:VEVENT
END:VCALENDAR
